BEGIN:VCALENDAR
VERSION:2.0
PRODID:-//RAAC - ECPv6.15.12.2//NONSGML v1.0//EN
CALSCALE:GREGORIAN
METHOD:PUBLISH
X-WR-CALNAME:RAAC
X-ORIGINAL-URL:https://www.raac.org
X-WR-CALDESC:Events for RAAC
REFRESH-INTERVAL;VALUE=DURATION:PT1H
X-Robots-Tag:noindex
X-PUBLISHED-TTL:PT1H
BEGIN:VTIMEZONE
TZID:America/New_York
BEGIN:DAYLIGHT
TZOFFSETFROM:-0500
TZOFFSETTO:-0400
TZNAME:EDT
DTSTART:20220313T070000
END:DAYLIGHT
BEGIN:STANDARD
TZOFFSETFROM:-0400
TZOFFSETTO:-0500
TZNAME:EST
DTSTART:20221106T060000
END:STANDARD
BEGIN:DAYLIGHT
TZOFFSETFROM:-0500
TZOFFSETTO:-0400
TZNAME:EDT
DTSTART:20230312T070000
END:DAYLIGHT
BEGIN:STANDARD
TZOFFSETFROM:-0400
TZOFFSETTO:-0500
TZNAME:EST
DTSTART:20231105T060000
END:STANDARD
BEGIN:DAYLIGHT
TZOFFSETFROM:-0500
TZOFFSETTO:-0400
TZNAME:EDT
DTSTART:20240310T070000
END:DAYLIGHT
BEGIN:STANDARD
TZOFFSETFROM:-0400
TZOFFSETTO:-0500
TZNAME:EST
DTSTART:20241103T060000
END:STANDARD
END:VTIMEZONE
BEGIN:VEVENT
DTSTART;TZID=America/New_York:20230916T190000
DTEND;TZID=America/New_York:20230916T210000
DTSTAMP:20260423T151401
CREATED:20230815T011110Z
LAST-MODIFIED:20230815T132944Z
UID:11096-1694890800-1694898000@www.raac.org
SUMMARY:RAAC Talk - Ben Raines
DESCRIPTION:Author/Filmmaker Ben Raines will talk about his acclaimed book\, The Last Slave Ship. Raines will discuss this true story of the criminal transport of slaves to the U.S. in 1860\, and his own discovery of the evidence on April 9\, 2018. \nThat day\, Raines— the son of Rappahannock resident Susan Raines— dove into a swampy river near Mobile\, Alabama and emerged with a shard of The Clotilda\, the vessel which had carried an illegal cargo of 110 West Africans to Alabama long after the U.S\, had outlawed international trafficking in slaves. The suppressed history of America’s last slave ship came back to life\, prompting a complex reckoning for Alabamans\, who had largely chosen to neglect or even deny this strange chapter in the harrowing saga of plantation slavery in the American South.
URL:https://www.raac.org/upcoming-events/raac-talk-ben-raines/
LOCATION:Little Washington Theatre\, 291 Gay Street\, Washington\, VA\, 22740\, United States
CATEGORIES:RAAC Events,RAAC Talks
ORGANIZER;CN="Rappahannock Association for Arts and Community":MAILTO:theater@raac.org
END:VEVENT
END:VCALENDAR