BEGIN:VCALENDAR
VERSION:2.0
PRODID:-//RAAC - ECPv6.15.12.2//NONSGML v1.0//EN
CALSCALE:GREGORIAN
METHOD:PUBLISH
X-ORIGINAL-URL:https://www.raac.org
X-WR-CALDESC:Events for RAAC
REFRESH-INTERVAL;VALUE=DURATION:PT1H
X-Robots-Tag:noindex
X-PUBLISHED-TTL:PT1H
BEGIN:VTIMEZONE
TZID:America/New_York
BEGIN:DAYLIGHT
TZOFFSETFROM:-0500
TZOFFSETTO:-0400
TZNAME:EDT
DTSTART:20220313T070000
END:DAYLIGHT
BEGIN:STANDARD
TZOFFSETFROM:-0400
TZOFFSETTO:-0500
TZNAME:EST
DTSTART:20221106T060000
END:STANDARD
BEGIN:DAYLIGHT
TZOFFSETFROM:-0500
TZOFFSETTO:-0400
TZNAME:EDT
DTSTART:20230312T070000
END:DAYLIGHT
BEGIN:STANDARD
TZOFFSETFROM:-0400
TZOFFSETTO:-0500
TZNAME:EST
DTSTART:20231105T060000
END:STANDARD
BEGIN:DAYLIGHT
TZOFFSETFROM:-0500
TZOFFSETTO:-0400
TZNAME:EDT
DTSTART:20240310T070000
END:DAYLIGHT
BEGIN:STANDARD
TZOFFSETFROM:-0400
TZOFFSETTO:-0500
TZNAME:EST
DTSTART:20241103T060000
END:STANDARD
BEGIN:DAYLIGHT
TZOFFSETFROM:-0500
TZOFFSETTO:-0400
TZNAME:EDT
DTSTART:20250309T070000
END:DAYLIGHT
BEGIN:STANDARD
TZOFFSETFROM:-0400
TZOFFSETTO:-0500
TZNAME:EST
DTSTART:20251102T060000
END:STANDARD
BEGIN:DAYLIGHT
TZOFFSETFROM:-0500
TZOFFSETTO:-0400
TZNAME:EDT
DTSTART:20260308T070000
END:DAYLIGHT
BEGIN:STANDARD
TZOFFSETFROM:-0400
TZOFFSETTO:-0500
TZNAME:EST
DTSTART:20261101T060000
END:STANDARD
END:VTIMEZONE
BEGIN:VEVENT
DTSTART;TZID=America/New_York:20251003T190000
DTEND;TZID=America/New_York:20251003T203000
DTSTAMP:20260424T073020
CREATED:20250930T195726Z
LAST-MODIFIED:20250930T195738Z
UID:12457-1759518000-1759523400@www.raac.org
SUMMARY:RAAC Talk - Lee Miller's Photography
DESCRIPTION:Rappahannock author and art scholar Jane Livingston will explore Lee Miller’s photography during this free RAAC program. \nRappahannock movie-goers last year enjoyed Lee\, the acclaimed film featuring American photographer Lee Miller’s exploits as a war correspondent in Europe for Vogue magazine. Miller’s artistic story will be further explored by Livingston in a talk and slide presentation. The former curator and associate director of the Corcoran Gallery of Art in Washington\, D.C.\, Jane Livingston authored Lee Miller: Photographer\, the definitive book on Miller’s shaping contributions to modern photography. The book accompanied a 1989-1990 exhibit that toured seven cities in the U.S. \nMiller’s life in Paris in the 1920s revolved around her artistic and romantic relationship with Man Ray\, the American artist who became a leading figure in the Surrealist and Dadaist movements. Miller’s works during those years\, and later\, became some of the most memorable images of the era\, when photography was evolving as both an art form and a communication medium for news. \nLivingston will share insights into this pivotal moment for modern art\, along with observations about the life and psychology of Lee Miller herself. \nHearing assistance will be available.
URL:https://www.raac.org/upcoming-events/raac-talk-lee-millers-photography/
LOCATION:Little Washington Theatre\, 291 Gay Street\, Washington\, VA\, 22740\, United States
CATEGORIES:RAAC Events,RAAC Talks
ORGANIZER;CN="Rappahannock Association for Arts and Community":MAILTO:theater@raac.org
END:VEVENT
BEGIN:VEVENT
DTSTART;TZID=America/New_York:20250430T173000
DTEND;TZID=America/New_York:20250430T193000
DTSTAMP:20260424T073020
CREATED:20250424T100147Z
LAST-MODIFIED:20250424T100338Z
UID:12124-1746034200-1746041400@www.raac.org
SUMMARY:RAAC Talk - Ken Grossinger
DESCRIPTION:The next RAAC talk will feature Ken Grossinger\, who has published Art Works: How Organizers and Artists are Creating a Better World Together. Some artists stand apart from hot-button issues of the day\, but throughout history\, others have deployed their creativity to push for reforms they support. Art can expose injustice\, offer commentary or mobilize public awareness. Grossinger points to Bryan Stevenson’s Equal Justice Initiative\, which brought together lawyers historians\, artists and architects to construct a cluster of museums in Montgomery\, Alabama\, to delve into\, and dramatize\, the legacies of slavery and racism. In various cities\, hundreds of murals mark the 2020 murder of George Floyd. In Art Works\, Grossinger writes that “if it hadn’t been for music\, the civll rights movement would have been like a bird without wings.” \nThere is no admission charge.
URL:https://www.raac.org/upcoming-events/raac-talk-ken-grossinger/
LOCATION:Rappahannock County Library\, 4 Library Road\, Washington\, VA\, 22747\, United States
CATEGORIES:RAAC Events,RAAC Talks
ORGANIZER;CN="Rappahannock Association for Arts and Community":MAILTO:theater@raac.org
END:VEVENT
BEGIN:VEVENT
DTSTART;TZID=America/New_York:20250316T173000
DTEND;TZID=America/New_York:20250316T193000
DTSTAMP:20260424T073020
CREATED:20250213T135736Z
LAST-MODIFIED:20250213T135741Z
UID:12017-1742146200-1742153400@www.raac.org
SUMMARY:RAAC Talk - David Chaffetz
DESCRIPTION:Author and scholar David Chaffetz will give a RAAC Talk about his recent book\, Raiders\, Rulers and Traders. In his book\, Chaffetz explores the lively history of the great horse empires that shaped civilization from the Bronze Age through the twentieth century. Readers learn that horses were not just a form of transportation\, but a transformative force that enabled empires to rise\, trade routes to form\, and cultures to connect from Iran and Afghanistan to China\, India\, and Russia. \nDavid Chaffetz is an independent scholar with a lifelong passion for Middle Eastern and Asian history. His first book\, A Journey through Afghanistan\, earned critical praise from Owen Latimore\, the doyen of Inner Asian studies. Chaffetz has contributed to the Asian Review of Books\, the South China Morning Post\, the Nikkei Asian Review\, and Fortune. He belongs to the Royal Society of Asian Affairs\, the Royal Asiatic Society (Hong Kong)\, the Gremio Literario (Lisbon)\, and the Explorers’ Club (New York). He serves on the Advisory Committee of the American Library. \nThe RAAC Talk is free. Hearing assistance is available.
URL:https://www.raac.org/upcoming-events/raac-talk-david-chaffetz/
LOCATION:Little Washington Theatre\, 291 Gay Street\, Washington\, VA\, 22740\, United States
CATEGORIES:RAAC Events,RAAC Talks
ORGANIZER;CN="Rappahannock Association for Arts and Community":MAILTO:theater@raac.org
END:VEVENT
BEGIN:VEVENT
DTSTART;TZID=America/New_York:20250226T190000
DTEND;TZID=America/New_York:20250226T210000
DTSTAMP:20260424T073020
CREATED:20250201T115436Z
LAST-MODIFIED:20250202T155802Z
UID:11944-1740596400-1740603600@www.raac.org
SUMMARY:RAAC Talk - Paula Whyman
DESCRIPTION:In her new book\, author Paula Whyman describes how she attempted to restore 200 acres of Rappahannock County farmland that was long gone-to-seed. Whyman will tell her story\, as recounted in her delightful book\, Bad Naturalist\, at the Little Washington Theatre. The event is sponsored by Rapp at Home and RAAC.
URL:https://www.raac.org/upcoming-events/raac-talk-paula-whyman/
LOCATION:Little Washington Theatre\, 291 Gay Street\, Washington\, VA\, 22740\, United States
CATEGORIES:RAAC Events,RAAC Talks
ORGANIZER;CN="Rappahannock Association for Arts and Community":MAILTO:theater@raac.org
END:VEVENT
BEGIN:VEVENT
DTSTART;TZID=America/New_York:20241220T190000
DTEND;TZID=America/New_York:20241220T210000
DTSTAMP:20260424T073020
CREATED:20241204T112646Z
LAST-MODIFIED:20241204T112651Z
UID:11830-1734721200-1734728400@www.raac.org
SUMMARY:RAAC Talks - Jennifer Ackerman
DESCRIPTION:Award-winning author Jennifer Ackerman will give a RAAC-RLEP Talk at Little Washington Theatre to discuss her latest New York Times bestseller\, What An Owl Knows: The New Science of the World’s Most Enigmatic Birds. This book is a brilliant scientific investigation into owls–the most elusive of birds–and why they exert such a hold on human imagination. \nCharlottesville-based Ackerman has written about science and nature for three decades\, and is lauded for a number of previous award-winning books including\, The Genius of Birds and The Bird Way. \nThe Talk is free. Hearing assistance is available.
URL:https://www.raac.org/upcoming-events/raac-talks-jennifer-ackerman/
LOCATION:Little Washington Theatre\, 291 Gay Street\, Washington\, VA\, 22740\, United States
CATEGORIES:RAAC Events,RAAC Talks
ORGANIZER;CN="Rappahannock Association for Arts and Community":MAILTO:theater@raac.org
END:VEVENT
BEGIN:VEVENT
DTSTART;TZID=America/New_York:20241003T190000
DTEND;TZID=America/New_York:20241003T213000
DTSTAMP:20260424T073020
CREATED:20240828T182310Z
LAST-MODIFIED:20240828T182316Z
UID:11711-1727982000-1727991000@www.raac.org
SUMMARY:RAAC Talks - Judd Swift
DESCRIPTION:Rappahannock author Judd Swift will describe what it’s like to arrange trips for American presidents\, in a talk at the Rappahannock County Library. \nSwift was an advance man for presidents Ronald Reagan\, George H. W. Bush and George W. Bush. In a conversation with journalist Andy Alexander\, Swift will share engaging stories from his recent book\, My Presidential Life. This RAAC Talk is free and open to all.
URL:https://www.raac.org/upcoming-events/raac-talks-judd-swift/
LOCATION:Rappahannock County Library\, 4 Library Road\, Washington\, VA\, 22747\, United States
CATEGORIES:RAAC Events,RAAC Talks
ORGANIZER;CN="Rappahannock Association for Arts and Community":MAILTO:theater@raac.org
END:VEVENT
BEGIN:VEVENT
DTSTART;TZID=America/New_York:20231007T170000
DTEND;TZID=America/New_York:20231007T190000
DTSTAMP:20260424T073020
CREATED:20230910T222058Z
LAST-MODIFIED:20230910T222103Z
UID:11147-1696698000-1696705200@www.raac.org
SUMMARY:RAAC Talks - Creative to Creative
DESCRIPTION:Creative to Creative: an exploratory dialogue about the process of creating what isn’t already here. Expect the unexpected arising from deep humor and unflinching originality\, when accomplished stage and screen actress Betsy Brantley collaborates and collides with the irreplaceable Rappahannock painter Ruthie Windsor-Mann. Environmentalist\, painter\, writer and former Rappahannock resident Ruth Anna Stolk will moderate the laughs\, memories and insights. This program is free.
URL:https://www.raac.org/upcoming-events/raac-talks-creative-to-creative/
LOCATION:Little Washington Theatre\, 291 Gay Street\, Washington\, VA\, 22740\, United States
CATEGORIES:RAAC Events,RAAC Talks
ORGANIZER;CN="Rappahannock Association for Arts and Community":MAILTO:theater@raac.org
END:VEVENT
BEGIN:VEVENT
DTSTART;TZID=America/New_York:20230916T190000
DTEND;TZID=America/New_York:20230916T210000
DTSTAMP:20260424T073020
CREATED:20230815T011110Z
LAST-MODIFIED:20230815T132944Z
UID:11096-1694890800-1694898000@www.raac.org
SUMMARY:RAAC Talk - Ben Raines
DESCRIPTION:Author/Filmmaker Ben Raines will talk about his acclaimed book\, The Last Slave Ship. Raines will discuss this true story of the criminal transport of slaves to the U.S. in 1860\, and his own discovery of the evidence on April 9\, 2018. \nThat day\, Raines— the son of Rappahannock resident Susan Raines— dove into a swampy river near Mobile\, Alabama and emerged with a shard of The Clotilda\, the vessel which had carried an illegal cargo of 110 West Africans to Alabama long after the U.S\, had outlawed international trafficking in slaves. The suppressed history of America’s last slave ship came back to life\, prompting a complex reckoning for Alabamans\, who had largely chosen to neglect or even deny this strange chapter in the harrowing saga of plantation slavery in the American South.
URL:https://www.raac.org/upcoming-events/raac-talk-ben-raines/
LOCATION:Little Washington Theatre\, 291 Gay Street\, Washington\, VA\, 22740\, United States
CATEGORIES:RAAC Events,RAAC Talks
ORGANIZER;CN="Rappahannock Association for Arts and Community":MAILTO:theater@raac.org
END:VEVENT
BEGIN:VEVENT
DTSTART;TZID=America/New_York:20230624T190000
DTEND;TZID=America/New_York:20230624T210000
DTSTAMP:20260424T073020
CREATED:20230526T130838Z
LAST-MODIFIED:20230526T132740Z
UID:10914-1687633200-1687640400@www.raac.org
SUMMARY:Reading Series - Angela M. Carter
DESCRIPTION:RAAC is pleased to announce the next event in its Reading Series: “Freeing the Caged Bird\,” a poetry reading by Angela M. Carter—confessional poet\, novelist\, Pushcart Prize nominee\, spoken word performer\, and author of Memory Chose a Woman’s Body (2014) and the forthcoming Love is the Dying Dog (2023). \nMs. Carter will also be offering a writing workshop prior to the reading. The workshop\, which will take place from 3-5PM at the winery\, will provide writers of all skill levels with opportunities to explore examples of personal storytelling and engage in exercises designed to guide writers in discovering their writing purpose and voice. Seating for this workshop is limited and must be reserved in advance. The cost of the workshop is $20. \nFor more information about the reading\, or to reserve a workshop seat\, please email readingseries@raac.org.
URL:https://www.raac.org/upcoming-events/reading-series-angela-m-carter/
LOCATION:Quievremont Winery\, 162 Gidbrown Hollow Rd\, Washington\, VA\, 22740\, United States
CATEGORIES:Author Readings,RAAC Events,RAAC Talks
ORGANIZER;CN="Rappahannock Association for Arts and Community":MAILTO:theater@raac.org
END:VEVENT
BEGIN:VEVENT
DTSTART;TZID=America/New_York:20230414T193000
DTEND;TZID=America/New_York:20230414T210000
DTSTAMP:20260424T073020
CREATED:20230409T130143Z
LAST-MODIFIED:20230409T140055Z
UID:10765-1681500600-1681506000@www.raac.org
SUMMARY:Derek Leebaert - Unlikely Heroes
DESCRIPTION:Derek Leebaert will speak at the Rappahannock County Library Friday April 14 at 7:30PM. He will discuss his new book on FDR\, and his team of innovators. He’ll also tell of his continuing adventure of looking deeply into the past and finding fresh insights. Leebaert sees history as a mix of tectonic economic and political forces\, but he never underplays the role played by individuals\, whose personalities and psychologies made things happen. His book Unlikely Heroes is a new look at FDR’s presidency and a fascinating probe into the dedicated and often lonely advisers who made “The New Deal” a reality. The program is free. The Library is located at 4 Library Road\, Washington\, VA 22747
URL:https://www.raac.org/upcoming-events/derek-leebaert-unlikely-heroes/
LOCATION:Rappahannock County Library\, 4 Library Road\, Washington\, VA\, 22747\, United States
CATEGORIES:RAAC Talks
END:VEVENT
END:VCALENDAR