BEGIN:VCALENDAR
VERSION:2.0
PRODID:-//RAAC - ECPv6.15.12.2//NONSGML v1.0//EN
CALSCALE:GREGORIAN
METHOD:PUBLISH
X-WR-CALNAME:RAAC
X-ORIGINAL-URL:https://www.raac.org
X-WR-CALDESC:Events for RAAC
REFRESH-INTERVAL;VALUE=DURATION:PT1H
X-Robots-Tag:noindex
X-PUBLISHED-TTL:PT1H
BEGIN:VTIMEZONE
TZID:America/New_York
BEGIN:DAYLIGHT
TZOFFSETFROM:-0500
TZOFFSETTO:-0400
TZNAME:EDT
DTSTART:20220313T070000
END:DAYLIGHT
BEGIN:STANDARD
TZOFFSETFROM:-0400
TZOFFSETTO:-0500
TZNAME:EST
DTSTART:20221106T060000
END:STANDARD
BEGIN:DAYLIGHT
TZOFFSETFROM:-0500
TZOFFSETTO:-0400
TZNAME:EDT
DTSTART:20230312T070000
END:DAYLIGHT
BEGIN:STANDARD
TZOFFSETFROM:-0400
TZOFFSETTO:-0500
TZNAME:EST
DTSTART:20231105T060000
END:STANDARD
BEGIN:DAYLIGHT
TZOFFSETFROM:-0500
TZOFFSETTO:-0400
TZNAME:EDT
DTSTART:20240310T070000
END:DAYLIGHT
BEGIN:STANDARD
TZOFFSETFROM:-0400
TZOFFSETTO:-0500
TZNAME:EST
DTSTART:20241103T060000
END:STANDARD
BEGIN:DAYLIGHT
TZOFFSETFROM:-0500
TZOFFSETTO:-0400
TZNAME:EDT
DTSTART:20250309T070000
END:DAYLIGHT
BEGIN:STANDARD
TZOFFSETFROM:-0400
TZOFFSETTO:-0500
TZNAME:EST
DTSTART:20251102T060000
END:STANDARD
BEGIN:DAYLIGHT
TZOFFSETFROM:-0500
TZOFFSETTO:-0400
TZNAME:EDT
DTSTART:20260308T070000
END:DAYLIGHT
BEGIN:STANDARD
TZOFFSETFROM:-0400
TZOFFSETTO:-0500
TZNAME:EST
DTSTART:20261101T060000
END:STANDARD
END:VTIMEZONE
BEGIN:VEVENT
DTSTART;TZID=America/New_York:20250308T190000
DTEND;TZID=America/New_York:20250308T213000
DTSTAMP:20260420T100324
CREATED:20240109T162540Z
LAST-MODIFIED:20250213T113356Z
UID:11320-1741460400-1741469400@www.raac.org
SUMMARY:Sip & Soul
DESCRIPTION:RAAC will host a Sip and Soul event at Rappahannock Cellars featuring Rappahannock farmer\, gardener and artist Joneve Murphy. Joneve describes herself as a creative farmer and elemental artist. She specializes in integrating art into agriculture\, creating functional and beautiful garden structures and using natural materials and pigments. Her story includes having established and managed a farm for the Inn at Little Washington\, and travel through 18 countries living and working on local farms. Joneve was selected to participate in RAAC’s Ephemeral Art Program in 2024 and is a past RAAC Mitchell Grant recipient. \nMake Reservations
URL:https://www.raac.org/upcoming-events/soup-and-soul/
LOCATION:Rappahannock Cellars Winery\, 14437 Hume Rd\, Huntly\, VA\, 22640\, United States
CATEGORIES:RAAC Events,Soup & Soul
ORGANIZER;CN="Rappahannock Association for Arts and Community":MAILTO:theater@raac.org
END:VEVENT
BEGIN:VEVENT
DTSTART;TZID=America/New_York:20230729T190000
DTEND;TZID=America/New_York:20230729T210000
DTSTAMP:20260420T100324
CREATED:20230611T181756Z
LAST-MODIFIED:20230716T183313Z
UID:10970-1690657200-1690664400@www.raac.org
SUMMARY:Sip and Soul - Patricia Underwood
DESCRIPTION:RAAC is offering a Sip and Soul evening (a variation of its popular Soup and Soul events) at Quievremont Winery. An after-dinner event rather than a pot-luck supper\, Sip and Soul will include savory and sweet bites along with wine and other beverages\, and will continue the Soup and Soul tradition of presentations by and conversation with local artists about their work and their creative process. \nThe evening will feature mixed-media artist Patricia Underwood\, who resides in Castleton and is a longtime veteran of RAAC’s Fall Art Tour. Patricia has exhibited nationally and internationally\, at venues including the Corcoran Museum and two solo shows in Warsaw\, Poland in 2007. Her work is included in numerous private collection\, and was recently featured at the Hylton Performing Arts Center at George Mason University. \nThe curator of the George Mason show described Patricia’s work as being “defined by the subtle and sophisticated use of materials and abstract forms to evoke spiritual\, linguistic\, and natural phenomena. A main theme running through all of Underwood’s bodies of work has been the use of her own unique symbols that she developed early in her career. Starting with Japanese kanji\, it built to include unique signs of music and movement\, as well as symbols from ancient caves and rock carvings. Throughout her career\, Underwood has incorporated and developed these symbols into distinct series of artworks with content and imagery that span ideas related to prehistoric signs of life\, lullabies\, the female body image and its representation\, communication and conflict\, and most recently trees and their relationship to humans and climate change.” \nYou can make reservations by following this link to Eventrite.
URL:https://www.raac.org/upcoming-events/sip-and-soul-2/
LOCATION:Quievremont Winery\, 162 Gidbrown Hollow Rd\, Washington\, VA\, 22740\, United States
CATEGORIES:RAAC Events,Soup & Soul
ORGANIZER;CN="Rappahannock Association for Arts and Community":MAILTO:theater@raac.org
END:VEVENT
BEGIN:VEVENT
DTSTART;TZID=America/New_York:20230318T190000
DTEND;TZID=America/New_York:20230318T220000
DTSTAMP:20260420T100324
CREATED:20230206T212106Z
LAST-MODIFIED:20230224T132217Z
UID:10606-1679166000-1679176800@www.raac.org
SUMMARY:Sip and Soul
DESCRIPTION:RAAC is offering a Sip and Soul evening (a variation of its popular Soup and Soul events) at Quievremont Winery. An after-dinner event rather than a pot-luck supper\, Sip and Soul will include savory and sweet bites along with wine and other beverages\, and will continue the Soup and Soul tradition of presentations by and conversation with local artists about their work and their creative process. This event will feature Celtic musicians Linn Barnes and Allison Hampton who live in Rappahannock and have performed together nationally and internationally for the past forty years\, including local appearances at the Kennedy Center\, the Smithsonian\, Folger Theatre\, Dumbarton Concert series\, etc. as well as venues across this country and European concert tours. Tickets will be available through Eventbrite beginning on February 9th and will be $33.85 per person. You can use this link: Sip & Soul
URL:https://www.raac.org/upcoming-events/sip-and-soul/
LOCATION:Quievremont Winery\, 162 Gidbrown Hollow Rd\, Washington\, VA\, 22740\, United States
CATEGORIES:RAAC Events,Soup & Soul
ORGANIZER;CN="Rappahannock Association for Arts and Community":MAILTO:theater@raac.org
END:VEVENT
END:VCALENDAR