BEGIN:VCALENDAR
VERSION:2.0
PRODID:-//RAAC - ECPv6.15.12.2//NONSGML v1.0//EN
CALSCALE:GREGORIAN
METHOD:PUBLISH
X-WR-CALNAME:RAAC
X-ORIGINAL-URL:https://www.raac.org
X-WR-CALDESC:Events for RAAC
REFRESH-INTERVAL;VALUE=DURATION:PT1H
X-Robots-Tag:noindex
X-PUBLISHED-TTL:PT1H
BEGIN:VTIMEZONE
TZID:America/New_York
BEGIN:DAYLIGHT
TZOFFSETFROM:-0500
TZOFFSETTO:-0400
TZNAME:EDT
DTSTART:20220313T070000
END:DAYLIGHT
BEGIN:STANDARD
TZOFFSETFROM:-0400
TZOFFSETTO:-0500
TZNAME:EST
DTSTART:20221106T060000
END:STANDARD
BEGIN:DAYLIGHT
TZOFFSETFROM:-0500
TZOFFSETTO:-0400
TZNAME:EDT
DTSTART:20230312T070000
END:DAYLIGHT
BEGIN:STANDARD
TZOFFSETFROM:-0400
TZOFFSETTO:-0500
TZNAME:EST
DTSTART:20231105T060000
END:STANDARD
BEGIN:DAYLIGHT
TZOFFSETFROM:-0500
TZOFFSETTO:-0400
TZNAME:EDT
DTSTART:20240310T070000
END:DAYLIGHT
BEGIN:STANDARD
TZOFFSETFROM:-0400
TZOFFSETTO:-0500
TZNAME:EST
DTSTART:20241103T060000
END:STANDARD
BEGIN:DAYLIGHT
TZOFFSETFROM:-0500
TZOFFSETTO:-0400
TZNAME:EDT
DTSTART:20250309T070000
END:DAYLIGHT
BEGIN:STANDARD
TZOFFSETFROM:-0400
TZOFFSETTO:-0500
TZNAME:EST
DTSTART:20251102T060000
END:STANDARD
BEGIN:DAYLIGHT
TZOFFSETFROM:-0500
TZOFFSETTO:-0400
TZNAME:EDT
DTSTART:20260308T070000
END:DAYLIGHT
BEGIN:STANDARD
TZOFFSETFROM:-0400
TZOFFSETTO:-0500
TZNAME:EST
DTSTART:20261101T060000
END:STANDARD
END:VTIMEZONE
BEGIN:VEVENT
DTSTART;TZID=America/New_York:20250918T180000
DTEND;TZID=America/New_York:20250918T200000
DTSTAMP:20260424T055941
CREATED:20250505T170202Z
LAST-MODIFIED:20250505T170209Z
UID:12168-1758218400-1758225600@www.raac.org
SUMMARY:Summer Concert - Mandalele and Back Road Revels
DESCRIPTION:Rappahannock County favorite folk-rock trio\, Mandalele & Friends features three singer-songwriter\, multi-instrumentalists–Lorraine Duisit\, Robert “Smiggy” Smith\, and Wendi Sirat. The trio blends three-part harmonies with rockin’ grooves\, sparkling strings and toe-tappin’ rhythms to create music infused with a potpourri of global traditions and inspiration from the Appalachian Mountains where the band was formed. \n  \nSpecial guests for this concert include The Backroad Revels -Eclectic roots-rock originals from Rappahannock songwriters Evan Espinola\, Lorraine Duisit and Jack Coon.  Inspired by life in this county and drawn from jazz\, folk\, reggae\, rap and blues\, their heartfelt songs are brought to life by renowned local guitarist Smiggy Smith and drummer Aury Holtslag.   
URL:https://www.raac.org/upcoming-events/summer-concert-mandalele-and-back-road-revels/
LOCATION:Sperryville River District\, River Lane\, Sperryville\, VA\, 22740\, United States
CATEGORIES:RAAC Events,Summer Concerts
ORGANIZER;CN="Rappahannock Association for Arts and Community":MAILTO:theater@raac.org
END:VEVENT
BEGIN:VEVENT
DTSTART;TZID=America/New_York:20250821T180000
DTEND;TZID=America/New_York:20250821T200000
DTSTAMP:20260424T055941
CREATED:20250505T165643Z
LAST-MODIFIED:20250505T165648Z
UID:12163-1755799200-1755806400@www.raac.org
SUMMARY:Summer Concert - Hawlin Callin’
DESCRIPTION:This ensemble is comprised of Rappahannock musicians who have played together for almost a half a century. Their songbook draws from a deep well of blues\, reggae\, backwoods country\, Americana\, classic rock\, and a little bit of bossa nova.  Band members include:  Robert “Smiggy” Smith on guitars and vocals; Vincent Day on guitar\, mandolin and vocals; Dinah Pherson on vocals; Andrew Carter on percussion; and Terry Waggener on bass. 
URL:https://www.raac.org/upcoming-events/summer-concert-hawlin-callin/
LOCATION:Sperryville River District\, River Lane\, Sperryville\, VA\, 22740\, United States
CATEGORIES:RAAC Events,Summer Concerts
ORGANIZER;CN="Rappahannock Association for Arts and Community":MAILTO:theater@raac.org
END:VEVENT
BEGIN:VEVENT
DTSTART;TZID=America/New_York:20250717T180000
DTEND;TZID=America/New_York:20250717T200000
DTSTAMP:20260424T055941
CREATED:20250505T165130Z
LAST-MODIFIED:20250505T165135Z
UID:12159-1752775200-1752782400@www.raac.org
SUMMARY:Summer Concert - Bobby G & The Heavies
DESCRIPTION:​Back by popular demand\, this favorite regional rhythm and blues band returns for their fifth year. Band members include: Robert (Bobby “G”) Glasker on vocals and guitar; Anders Drew on vocals and guitar; Mike (Coy) Groves on vocals and guitar; George Glascoe on bass guitar; and Paul Norris on drums.
URL:https://www.raac.org/upcoming-events/summer-concert-bobby-g-the-heavies/
LOCATION:Sperryville River District\, River Lane\, Sperryville\, VA\, 22740\, United States
CATEGORIES:RAAC Events,Summer Concerts
ORGANIZER;CN="Rappahannock Association for Arts and Community":MAILTO:theater@raac.org
END:VEVENT
BEGIN:VEVENT
DTSTART;TZID=America/New_York:20250626T180000
DTEND;TZID=America/New_York:20250626T200000
DTSTAMP:20260424T055941
CREATED:20250505T164653Z
LAST-MODIFIED:20250620T123829Z
UID:12152-1750960800-1750968000@www.raac.org
SUMMARY:Summer Concert - The Jess Estienne Band
DESCRIPTION:Postponed until June26th because of weather \nNew to the summer concert stage this year\, with deep roots in the Blue Ridge Mountains\, including in Rappahannock\, this band of poetic storytellers will enchant you with their eclectic songs of life\, love and wonder\, mixing a variety of genres including rock-country blues. Band members include: Jess Estienne—lead singer\, song writer\, rhythm guitarist; Chris Bishop—back-up vocals\, lead guitarist; Rappahannock’s own\, Aury Holtslag—drummer; Logan Unger—bassist; Justin Carver—pedal steel.
URL:https://www.raac.org/upcoming-events/summer-concert-the-jess-estienne-band/
LOCATION:Sperryville River District\, River Lane\, Sperryville\, VA\, 22740\, United States
CATEGORIES:RAAC Events,Summer Concerts
ORGANIZER;CN="Rappahannock Association for Arts and Community":MAILTO:theater@raac.org
END:VEVENT
BEGIN:VEVENT
DTSTART;TZID=America/New_York:20250522T180000
DTEND;TZID=America/New_York:20250522T200000
DTSTAMP:20260424T055941
CREATED:20250505T164133Z
LAST-MODIFIED:20250514T170858Z
UID:12147-1747936800-1747944000@www.raac.org
SUMMARY:Summer Concert - Gold Top County Ramblers (Date Change)
DESCRIPTION:Due to heavy rain and flooding in the area\, the kick-off show of the Sperryville Summer Concert Series has been postponed until  May 22 at 6PM. \nA popular Sperryville band returns to the Summer Concert stage. Band members include: Adam Rogers on mandolin and vocals; Jesse Rogers on bass; Tucker Rogers on resonator guitar; Matt Davis on banjo; James Reid on drums; and Evan Childress on fiddle.
URL:https://www.raac.org/upcoming-events/summer-concert-gold-top-county-ramblers/
LOCATION:Sperryville River District\, River Lane\, Sperryville\, VA\, 22740\, United States
CATEGORIES:RAAC Events,Summer Concerts
ORGANIZER;CN="Rappahannock Association for Arts and Community":MAILTO:theater@raac.org
END:VEVENT
BEGIN:VEVENT
DTSTART;TZID=America/New_York:20230921T180000
DTEND;TZID=America/New_York:20230921T200000
DTSTAMP:20260424T055942
CREATED:20230426T193822Z
LAST-MODIFIED:20230815T004151Z
UID:10818-1695319200-1695326400@www.raac.org
SUMMARY:The Nethers Hot Club
DESCRIPTION:Sperryville Summer Concert Series\n			\n			\n				\n				\n				\n				\n			\n				\n				\n				\n				\n				\n				\n				\n				\n				\n				\n				\n			\n			\n				\n				\n				\n				\n				\n				\n				\n				\n				\n				The Nethers Hot ClubBand members: Linda Heimstra (guitar and accordion)\, Rannie Winn(sax and clarinet) Bob Williams (lead guitar) Joe Pipik (bass) and Bob McDugald (drums)
URL:https://www.raac.org/upcoming-events/nethers-hot-club/
LOCATION:Sperryville River District\, River Lane\, Sperryville\, VA\, 22740\, United States
CATEGORIES:RAAC Events,Summer Concerts
ORGANIZER;CN="Rappahannock Association for Arts and Community":MAILTO:theater@raac.org
END:VEVENT
BEGIN:VEVENT
DTSTART;TZID=America/New_York:20230817T180000
DTEND;TZID=America/New_York:20230817T200000
DTSTAMP:20260424T055942
CREATED:20230426T193440Z
LAST-MODIFIED:20230815T004022Z
UID:10815-1692295200-1692302400@www.raac.org
SUMMARY:Gold Top County Ramblers
DESCRIPTION:Sperryville Summer Concert Series\n			\n			\n				\n				\n				\n				\n			\n				\n				\n				\n				\n				\n				\n				\n				\n				\n				\n				\n			\n			\n				\n				\n				\n				\n				\n				\n				\n				\n				\n				Gold Top County Ramblers—Bluegrass’esque String Rock band out of Sperryville\, Va. \nThe band members include: \nAdam Rogers – vocals\,mandolinJesse Rogers – bassMatt Davis – BanjoJames Reid – drumsEvan Childress – fiddle
URL:https://www.raac.org/upcoming-events/gold-top-county-ramblers/
LOCATION:Sperryville River District\, River Lane\, Sperryville\, VA\, 22740\, United States
CATEGORIES:RAAC Events,Summer Concerts
ORGANIZER;CN="Rappahannock Association for Arts and Community":MAILTO:theater@raac.org
END:VEVENT
BEGIN:VEVENT
DTSTART;TZID=America/New_York:20230720T180000
DTEND;TZID=America/New_York:20230720T200000
DTSTAMP:20260424T055942
CREATED:20230426T193240Z
LAST-MODIFIED:20230428T114951Z
UID:10813-1689876000-1689883200@www.raac.org
SUMMARY:Spontaneous Combustion
DESCRIPTION:Sperryville Summer Concert Series\n			\n			\n				\n				\n				\n				\n			\n				\n				\n				\n				\n				\n				\n				\n				\n				\n				\n				\n			\n			\n				\n				\n				\n				\n				\n				\n				\n				\n				\n				Spontaneous Combustion \nBand members include: Smiggy Smith (Lead Guitar\, vocals); Thommy Gros (Lead Guitar\, vocals); Miranda Hope (Guitar\, vocals); Terry Waggener (Bass); Drew Smith (Drums\, Percussion); Jim Carter (Harmonica); Shahin Shahida (Lead guitar/Vocals).
URL:https://www.raac.org/upcoming-events/spontaneous-combustion/
LOCATION:Sperryville River District\, River Lane\, Sperryville\, VA\, 22740\, United States
CATEGORIES:RAAC Events,Summer Concerts
ORGANIZER;CN="Rappahannock Association for Arts and Community":MAILTO:theater@raac.org
END:VEVENT
BEGIN:VEVENT
DTSTART;TZID=America/New_York:20230615T180000
DTEND;TZID=America/New_York:20230615T200000
DTSTAMP:20260424T055942
CREATED:20230426T192638Z
LAST-MODIFIED:20230428T115147Z
UID:10811-1686852000-1686859200@www.raac.org
SUMMARY:Bobby G and the Heavies
DESCRIPTION:Sperryville Summer Concert Series\n			\n			\n				\n				\n				\n				\n			\n				\n				\n				\n				\n				\n				\n				\n				\n				\n				\n				\n			\n			\n				\n				\n				\n				\n				\n				\n				\n				\n				\n				Bobby G & The Heavies—The best rhythm and authentic blues band in the area! Band members include: Robert (Bobby) Glasker on vocals & guitar\, George Glascoe on bass\, Jack Norris on trombone\, Paul Norris on drums\, Mike Coy Groves on vocal and guitar.
URL:https://www.raac.org/upcoming-events/bobby-g-and-the-heavies/
LOCATION:Sperryville River District\, River Lane\, Sperryville\, VA\, 22740\, United States
CATEGORIES:RAAC Events,Summer Concerts
ORGANIZER;CN="Rappahannock Association for Arts and Community":MAILTO:theater@raac.org
END:VEVENT
BEGIN:VEVENT
DTSTART;TZID=America/New_York:20230518T180000
DTEND;TZID=America/New_York:20230518T200000
DTSTAMP:20260424T055942
CREATED:20230426T183220Z
LAST-MODIFIED:20230428T115413Z
UID:10794-1684432800-1684440000@www.raac.org
SUMMARY:1000 Faces Band
DESCRIPTION:Sperryville Summer Concert Series\n			\n			\n				\n				\n				\n				\n			\n				\n				\n				\n				\n				\n				\n				\n				\n				\n				\n				\n			\n			\n				\n				\n				\n				\n				\n				\n				\n				\n				\n				1000 Faces BandOver the course of three decades\, the core of this band has provided the soundtrack for performances by the Rappahannock-based 1000 Faces Mask Theater.  Having evolved through many incarnations\, this current lineup has been together for several years. Bandleader Wendi Sirat leads the seven-member ensemble\, mixing original songs with crowd favorites from past theatrical performances.  The concert marks the band’s first public performance without the mask theater troupe. The lineup is as follows:  Wendi Sirat on vocals\, ukelele\, percussion; Linda Orfila on vocals; Bob Wellemeyer on drums; Rannie Winn on saxophone\, whistles\, vocals; Pati Brumfield on keyboards\, vocals; Joe Pipik on bass\, vocals; Daniel Webb on cello\, vocals.
URL:https://www.raac.org/upcoming-events/1000-faces-band/
LOCATION:Sperryville River District\, River Lane\, Sperryville\, VA\, 22740\, United States
CATEGORIES:RAAC Events,Summer Concerts
ORGANIZER;CN="Rappahannock Association for Arts and Community":MAILTO:theater@raac.org
END:VEVENT
END:VCALENDAR