BEGIN:VCALENDAR
VERSION:2.0
PRODID:-//RAAC - ECPv6.15.12.2//NONSGML v1.0//EN
CALSCALE:GREGORIAN
METHOD:PUBLISH
X-WR-CALNAME:RAAC
X-ORIGINAL-URL:https://www.raac.org
X-WR-CALDESC:Events for RAAC
REFRESH-INTERVAL;VALUE=DURATION:PT1H
X-Robots-Tag:noindex
X-PUBLISHED-TTL:PT1H
BEGIN:VTIMEZONE
TZID:America/New_York
BEGIN:DAYLIGHT
TZOFFSETFROM:-0500
TZOFFSETTO:-0400
TZNAME:EDT
DTSTART:20240310T070000
END:DAYLIGHT
BEGIN:STANDARD
TZOFFSETFROM:-0400
TZOFFSETTO:-0500
TZNAME:EST
DTSTART:20241103T060000
END:STANDARD
BEGIN:DAYLIGHT
TZOFFSETFROM:-0500
TZOFFSETTO:-0400
TZNAME:EDT
DTSTART:20250309T070000
END:DAYLIGHT
BEGIN:STANDARD
TZOFFSETFROM:-0400
TZOFFSETTO:-0500
TZNAME:EST
DTSTART:20251102T060000
END:STANDARD
BEGIN:DAYLIGHT
TZOFFSETFROM:-0500
TZOFFSETTO:-0400
TZNAME:EDT
DTSTART:20260308T070000
END:DAYLIGHT
BEGIN:STANDARD
TZOFFSETFROM:-0400
TZOFFSETTO:-0500
TZNAME:EST
DTSTART:20261101T060000
END:STANDARD
BEGIN:DAYLIGHT
TZOFFSETFROM:-0500
TZOFFSETTO:-0400
TZNAME:EDT
DTSTART:20270314T070000
END:DAYLIGHT
BEGIN:STANDARD
TZOFFSETFROM:-0400
TZOFFSETTO:-0500
TZNAME:EST
DTSTART:20271107T060000
END:STANDARD
END:VTIMEZONE
BEGIN:VEVENT
DTSTART;TZID=America/New_York:20251205T190000
DTEND;TZID=America/New_York:20251205T203000
DTSTAMP:20260423T103130
CREATED:20251014T205238Z
LAST-MODIFIED:20251014T205924Z
UID:12489-1764961200-1764966600@www.raac.org
SUMMARY:The Emperor's New Clothes
DESCRIPTION:RAAC brings The Emperor’s New Clothes to the Little Washington Theatre on the first two weekends in December. This adaptation of Hans Christian Andersen’s classic is lively\, fast-paced and full of audience participation. \nPerformances will be: Friday\, Dec. 5 (7 pm)Saturday\, Dec. 6 (3 pm)Friday\, Dec. 12 (7 pm)Saturday\, Dec. 13 (3 pm)Sunday\, Dec. 14 (3 pm) \nTickets: Adults $20 in advance ($25 at the door). Children 12 and under $5.Click here to purchase tickets.
URL:https://www.raac.org/upcoming-events/the-emperors-new-clothes/
LOCATION:Little Washington Theatre\, 291 Gay Street\, Washington\, VA\, 22740\, United States
CATEGORIES:RAAC Events,Theatre
ORGANIZER;CN="Rappahannock Association for Arts and Community":MAILTO:theater@raac.org
END:VEVENT
BEGIN:VEVENT
DTSTART;TZID=America/New_York:20251206T150000
DTEND;TZID=America/New_York:20251206T163000
DTSTAMP:20260423T103130
CREATED:20251014T210155Z
LAST-MODIFIED:20251014T210204Z
UID:12494-1765033200-1765038600@www.raac.org
SUMMARY:The Emperor's New Clothes
DESCRIPTION:RAAC brings The Emperor’s New Clothes to the Little Washington Theatre on the first two weekends in December. This adaptation of Hans Christian Andersen’s classic is lively\, fast-paced and full of audience participation. \nPerformances will be: Friday\, Dec. 5 (7 pm)Saturday\, Dec. 6 (3 pm)Friday\, Dec. 12 (7 pm)Saturday\, Dec. 13 (3 pm)Sunday\, Dec. 14 (3 pm) \nTickets: Adults $20 in advance ($25 at the door). Children 12 and under $5.Click here to purchase tickets.
URL:https://www.raac.org/upcoming-events/the-emperors-new-clothes-2/
LOCATION:Little Washington Theatre\, 291 Gay Street\, Washington\, VA\, 22740\, United States
CATEGORIES:RAAC Events,Theatre
ORGANIZER;CN="Rappahannock Association for Arts and Community":MAILTO:theater@raac.org
END:VEVENT
BEGIN:VEVENT
DTSTART;TZID=America/New_York:20251210T170000
DTEND;TZID=America/New_York:20251210T190000
DTSTAMP:20260423T103130
CREATED:20250825T204218Z
LAST-MODIFIED:20251014T211810Z
UID:12400-1765386000-1765393200@www.raac.org
SUMMARY:The Nutcracker - Mini Performance and Class
DESCRIPTION:RAAC presents a special holiday event for children ages 3 to 10. They can experience the magic of The Nutcracker by taking a ballet class with Clara and her friends. There will also be a mini performance of The Nutcracker by members of the Charlottesville Ballet. The class will include introductory ballet steps and photo opportunities with the Charlottesville Ballet dancers. Class size is limited\, so reserve your tickets for this FREE event now by clicking here.
URL:https://www.raac.org/upcoming-events/the-nutcracker-mini-performance-and-class/
LOCATION:Little Washington Theatre\, 291 Gay Street\, Washington\, VA\, 22740\, United States
CATEGORIES:Kids Programs,RAAC Events,Theatre,Workshops
ORGANIZER;CN="Rappahannock Association for Arts and Community":MAILTO:theater@raac.org
END:VEVENT
BEGIN:VEVENT
DTSTART;TZID=America/New_York:20251212T190000
DTEND;TZID=America/New_York:20251212T203000
DTSTAMP:20260423T103130
CREATED:20251014T210429Z
LAST-MODIFIED:20251014T210439Z
UID:12497-1765566000-1765571400@www.raac.org
SUMMARY:The Emperor's New Clothes
DESCRIPTION:RAAC brings The Emperor’s New Clothes to the Little Washington Theatre on the first two weekends in December. This adaptation of Hans Christian Andersen’s classic is lively\, fast-paced and full of audience participation. \nPerformances will be: Friday\, Dec. 5 (7 pm)Saturday\, Dec. 6 (3 pm)Friday\, Dec. 12 (7 pm)Saturday\, Dec. 13 (3 pm)Sunday\, Dec. 14 (3 pm) \nTickets: Adults $20 in advance ($25 at the door). Children 12 and under $5.Click here to purchase tickets.
URL:https://www.raac.org/upcoming-events/the-emperors-new-clothes-3/
LOCATION:Little Washington Theatre\, 291 Gay Street\, Washington\, VA\, 22740\, United States
CATEGORIES:RAAC Events,Theatre
ORGANIZER;CN="Rappahannock Association for Arts and Community":MAILTO:theater@raac.org
END:VEVENT
BEGIN:VEVENT
DTSTART;TZID=America/New_York:20251213T150000
DTEND;TZID=America/New_York:20251213T163000
DTSTAMP:20260423T103130
CREATED:20251014T210657Z
LAST-MODIFIED:20251014T210705Z
UID:12501-1765638000-1765643400@www.raac.org
SUMMARY:The Emperor's New Clothes
DESCRIPTION:RAAC brings The Emperor’s New Clothes to the Little Washington Theatre on the first two weekends in December. This adaptation of Hans Christian Andersen’s classic is lively\, fast-paced and full of audience participation. \nPerformances will be: Friday\, Dec. 5 (7 pm)Saturday\, Dec. 6 (3 pm)Friday\, Dec. 12 (7 pm)Saturday\, Dec. 13 (3 pm)Sunday\, Dec. 14 (3 pm) \nTickets: Adults $20 in advance ($25 at the door). Children 12 and under $5.Click here to purchase tickets.
URL:https://www.raac.org/upcoming-events/the-emperors-new-clothes-4/
LOCATION:Little Washington Theatre\, 291 Gay Street\, Washington\, VA\, 22740\, United States
CATEGORIES:RAAC Events,Theatre
ORGANIZER;CN="Rappahannock Association for Arts and Community":MAILTO:theater@raac.org
END:VEVENT
BEGIN:VEVENT
DTSTART;TZID=America/New_York:20251214T150000
DTEND;TZID=America/New_York:20251214T163000
DTSTAMP:20260423T103130
CREATED:20251014T210850Z
LAST-MODIFIED:20251014T211543Z
UID:12505-1765724400-1765729800@www.raac.org
SUMMARY:The Emperor's New Clothes
DESCRIPTION:RAAC brings The Emperor’s New Clothes to the Little Washington Theatre on the first two weekends in December. This adaptation of Hans Christian Andersen’s classic is lively\, fast-paced and full of audience participation. \nPerformances will be: Friday\, Dec. 5 (7 pm)Saturday\, Dec. 6 (3 pm)Friday\, Dec. 12 (7 pm)Saturday\, Dec. 13 (3 pm)Sunday\, Dec. 14 (3 pm) \nTickets: Adults $20 in advance ($25 at the door). Children 12 and under $5.Click here to purchase tickets.
URL:https://www.raac.org/upcoming-events/the-emperors-new-clothes-5/
LOCATION:Little Washington Theatre\, 291 Gay Street\, Washington\, VA\, 22740\, United States
CATEGORIES:RAAC Events,Theatre
ORGANIZER;CN="Rappahannock Association for Arts and Community":MAILTO:theater@raac.org
END:VEVENT
BEGIN:VEVENT
DTSTART;TZID=America/New_York:20260314T140000
DTEND;TZID=America/New_York:20260314T170000
DTSTAMP:20260423T103130
CREATED:20260301T203400Z
LAST-MODIFIED:20260301T203548Z
UID:12737-1773496800-1773507600@www.raac.org
SUMMARY:Auditions for The Dining Room
DESCRIPTION:“The Dining Room” by A. R. Gurney is a comedy of manners\, set in a single dining room where 18 scenes from different households overlap and intertwine. Each story is focused around a different family during different time periods who has in their possession the same dining room furniture set\, manufactured in 1898. Portrayed with compassionate humor and abundant humanity\, the action is a mosaic of interrelated scenes —some funny\, some touching\, some rueful—which\, taken together\, create an in-depth portrait of a vanishing species: the upper-middle-class WASP (White Anglo-Saxon Protestant). \nIf you would like to audition please complete an audition form here.
URL:https://www.raac.org/upcoming-events/auditions-for-the-dining-room/
LOCATION:Little Washington Theatre\, 291 Gay Street\, Washington\, VA\, 22740\, United States
CATEGORIES:RAAC Events,Theatre
ORGANIZER;CN="Rappahannock Association for Arts and Community":MAILTO:theater@raac.org
END:VEVENT
BEGIN:VEVENT
DTSTART;TZID=America/New_York:20260327T190000
DTEND;TZID=America/New_York:20260327T210000
DTSTAMP:20260423T103130
CREATED:20260129T215843Z
LAST-MODIFIED:20260130T144422Z
UID:12670-1774638000-1774645200@www.raac.org
SUMMARY:Tartuffe
DESCRIPTION:Tartuffe\, the greatest hit from France’s greatest wit\, presented by RAAC Theatre. Moliere’s 17th Century\, masterful take-down of religious hypocrisy staged in full period dress by some of your most beloved actors. Translation by Richard Wilbur \nYou can purchase tickets by clicking here.
URL:https://www.raac.org/upcoming-events/tartuffe/
LOCATION:Little Washington Theatre\, 291 Gay Street\, Washington\, VA\, 22740\, United States
CATEGORIES:RAAC Events,Theatre
ORGANIZER;CN="Rappahannock Association for Arts and Community":MAILTO:theater@raac.org
END:VEVENT
BEGIN:VEVENT
DTSTART;TZID=America/New_York:20260328T150000
DTEND;TZID=America/New_York:20260328T170000
DTSTAMP:20260423T103130
CREATED:20260130T144855Z
LAST-MODIFIED:20260130T144903Z
UID:12681-1774710000-1774717200@www.raac.org
SUMMARY:Tartuffe
DESCRIPTION:Tartuffe\, the greatest hit from France’s greatest wit\, presented by RAAC Theatre. Moliere’s 17th Century\, masterful take-down of religious hypocrisy staged in full period dress by some of your most beloved actors. Translation by Richard Wilbur \nYou can purchase tickets by clicking here.
URL:https://www.raac.org/upcoming-events/tartuffe-2/
LOCATION:Little Washington Theatre\, 291 Gay Street\, Washington\, VA\, 22740\, United States
CATEGORIES:RAAC Events,Theatre
ORGANIZER;CN="Rappahannock Association for Arts and Community":MAILTO:theater@raac.org
END:VEVENT
BEGIN:VEVENT
DTSTART;TZID=America/New_York:20260329T150000
DTEND;TZID=America/New_York:20260329T170000
DTSTAMP:20260423T103130
CREATED:20260130T145123Z
LAST-MODIFIED:20260130T145132Z
UID:12685-1774796400-1774803600@www.raac.org
SUMMARY:Tartuffe
DESCRIPTION:Tartuffe\, the greatest hit from France’s greatest wit\, presented by RAAC Theatre. Moliere’s 17th Century\, masterful take-down of religious hypocrisy staged in full period dress by some of your most beloved actors. Translation by Richard Wilbur \nYou can purchase tickets by clicking here.
URL:https://www.raac.org/upcoming-events/tartuffe-3/
LOCATION:Little Washington Theatre\, 291 Gay Street\, Washington\, VA\, 22740\, United States
CATEGORIES:RAAC Events,Theatre
ORGANIZER;CN="Rappahannock Association for Arts and Community":MAILTO:theater@raac.org
END:VEVENT
BEGIN:VEVENT
DTSTART;TZID=America/New_York:20260403T190000
DTEND;TZID=America/New_York:20260403T210000
DTSTAMP:20260423T103130
CREATED:20260130T145349Z
LAST-MODIFIED:20260130T145356Z
UID:12688-1775242800-1775250000@www.raac.org
SUMMARY:Tartuffe
DESCRIPTION:Tartuffe\, the greatest hit from France’s greatest wit\, presented by RAAC Theatre. Moliere’s 17th Century\, masterful take-down of religious hypocrisy staged in full period dress by some of your most beloved actors. Translation by Richard Wilbur \nYou can purchase tickets by clicking here.
URL:https://www.raac.org/upcoming-events/tartuffe-4/
LOCATION:Little Washington Theatre\, 291 Gay Street\, Washington\, VA\, 22740\, United States
CATEGORIES:RAAC Events,Theatre
ORGANIZER;CN="Rappahannock Association for Arts and Community":MAILTO:theater@raac.org
END:VEVENT
BEGIN:VEVENT
DTSTART;TZID=America/New_York:20260404T150000
DTEND;TZID=America/New_York:20260404T170000
DTSTAMP:20260423T103130
CREATED:20260130T145621Z
LAST-MODIFIED:20260130T145629Z
UID:12691-1775314800-1775322000@www.raac.org
SUMMARY:Tartuffe
DESCRIPTION:Tartuffe\, the greatest hit from France’s greatest wit\, presented by RAAC Theatre. Moliere’s 17th Century\, masterful take-down of religious hypocrisy staged in full period dress by some of your most beloved actors. Translation by Richard Wilbur \nYou can purchase tickets by clicking here.
URL:https://www.raac.org/upcoming-events/tartuffe-5/
LOCATION:Little Washington Theatre\, 291 Gay Street\, Washington\, VA\, 22740\, United States
CATEGORIES:RAAC Events,Theatre
ORGANIZER;CN="Rappahannock Association for Arts and Community":MAILTO:theater@raac.org
END:VEVENT
END:VCALENDAR