BEGIN:VCALENDAR
VERSION:2.0
PRODID:-//RAAC - ECPv6.15.12.2//NONSGML v1.0//EN
CALSCALE:GREGORIAN
METHOD:PUBLISH
X-WR-CALNAME:RAAC
X-ORIGINAL-URL:https://www.raac.org
X-WR-CALDESC:Events for RAAC
REFRESH-INTERVAL;VALUE=DURATION:PT1H
X-Robots-Tag:noindex
X-PUBLISHED-TTL:PT1H
BEGIN:VTIMEZONE
TZID:America/New_York
BEGIN:DAYLIGHT
TZOFFSETFROM:-0500
TZOFFSETTO:-0400
TZNAME:EDT
DTSTART:20220313T070000
END:DAYLIGHT
BEGIN:STANDARD
TZOFFSETFROM:-0400
TZOFFSETTO:-0500
TZNAME:EST
DTSTART:20221106T060000
END:STANDARD
BEGIN:DAYLIGHT
TZOFFSETFROM:-0500
TZOFFSETTO:-0400
TZNAME:EDT
DTSTART:20230312T070000
END:DAYLIGHT
BEGIN:STANDARD
TZOFFSETFROM:-0400
TZOFFSETTO:-0500
TZNAME:EST
DTSTART:20231105T060000
END:STANDARD
BEGIN:DAYLIGHT
TZOFFSETFROM:-0500
TZOFFSETTO:-0400
TZNAME:EDT
DTSTART:20240310T070000
END:DAYLIGHT
BEGIN:STANDARD
TZOFFSETFROM:-0400
TZOFFSETTO:-0500
TZNAME:EST
DTSTART:20241103T060000
END:STANDARD
END:VTIMEZONE
BEGIN:VEVENT
DTSTART;TZID=America/New_York:20230114T160000
DTEND;TZID=America/New_York:20230114T180000
DTSTAMP:20260423T074926
CREATED:20221230T152730Z
LAST-MODIFIED:20230112T195502Z
UID:9786-1673712000-1673719200@www.raac.org
SUMMARY:Gay Street Gallery Exhibition Opening Reception
DESCRIPTION:Gay Street Gallery Exhibition Opening Reception\nNew Exhibition Opens Saturday\, January 14th at Gay Street Gallery \nReception with Artists January 14\, 2023 from 4:00 pm to 6:00 pmEnjoy refreshments\, view the new exhibit\, and visit with J.S. Herbert and Kevin H. Adams \nGay Street Gallery337 Gay StreetWashington VA 22747540-227-5100 \nThe gallery is open Wednesday-Monday 10a-5p or by appointment 540-522-9688. We also are happy to help you by phone (540-227-5100) or email (info@gaystreetgallery.com)\, and can provide curbside pickup or free shipping. More at www.gaystreetgallery.com. \n  \n \nJ.S. Herbert\, a ceramicist based in Northern Virginia\, is a member of multiple associations of artists\, including the Studio Gallery in Washington\, D.C. and the Art League Gallery in Alexandria. This is her first show at Gay Street Gallery. \n \nKevin H. Adams\, the Gallery’s resident artist\, unveils new paintings from Virginia\, Cape Cod\, and his travels. Kevin is a member of New York City’s Salmagundi Club\, the oldest association of artists in the U.S.\, and also of The Provincetown Art Association and Museum. His work is regularly on display in both venues. His focus when capturing the landscapes he witnesses is on the light and its impact on color as we see it. \n  \n \nAster da Fonseca is a self-taught artist born in Volta Redonda\, in the state of Rio di Janeiro\, Brazil. He moved to Washington\, D.C.\, in 1995 and began painting in 1998. Gay Street Gallery has had the pleasure of showing Aster’s work in recent years and is excited to feature him in this new exhibition. Aster paints and cuts tape\, applying it to the paper or board\, to create his gorgeous\, detailed\, abstract landscapes.
URL:https://www.raac.org/upcoming-events/gay-street-gallery-exhibition-opening-reception/
CATEGORIES:County Events
END:VEVENT
END:VCALENDAR