BEGIN:VCALENDAR
VERSION:2.0
PRODID:-//RAAC - ECPv6.15.12.2//NONSGML v1.0//EN
CALSCALE:GREGORIAN
METHOD:PUBLISH
X-WR-CALNAME:RAAC
X-ORIGINAL-URL:https://www.raac.org
X-WR-CALDESC:Events for RAAC
REFRESH-INTERVAL;VALUE=DURATION:PT1H
X-Robots-Tag:noindex
X-PUBLISHED-TTL:PT1H
BEGIN:VTIMEZONE
TZID:America/New_York
BEGIN:DAYLIGHT
TZOFFSETFROM:-0500
TZOFFSETTO:-0400
TZNAME:EDT
DTSTART:20230312T070000
END:DAYLIGHT
BEGIN:STANDARD
TZOFFSETFROM:-0400
TZOFFSETTO:-0500
TZNAME:EST
DTSTART:20231105T060000
END:STANDARD
BEGIN:DAYLIGHT
TZOFFSETFROM:-0500
TZOFFSETTO:-0400
TZNAME:EDT
DTSTART:20240310T070000
END:DAYLIGHT
BEGIN:STANDARD
TZOFFSETFROM:-0400
TZOFFSETTO:-0500
TZNAME:EST
DTSTART:20241103T060000
END:STANDARD
BEGIN:DAYLIGHT
TZOFFSETFROM:-0500
TZOFFSETTO:-0400
TZNAME:EDT
DTSTART:20250309T070000
END:DAYLIGHT
BEGIN:STANDARD
TZOFFSETFROM:-0400
TZOFFSETTO:-0500
TZNAME:EST
DTSTART:20251102T060000
END:STANDARD
END:VTIMEZONE
BEGIN:VEVENT
DTSTART;TZID=America/New_York:20240330T193000
DTEND;TZID=America/New_York:20240330T213000
DTSTAMP:20260423T073137
CREATED:20240219T125900Z
LAST-MODIFIED:20240219T130332Z
UID:11399-1711827000-1711834200@www.raac.org
SUMMARY:Improv Performance
DESCRIPTION:The performance features the Playback Theatre actors listening to true stories from audience members. The “teller” then casts the actors in different roles and they use all their creative resources to immediately play the story back to the audience. The resulting “re-enactments” are often poignant as well as funny\, finding the heart and the funny bone embedded in each tale. \n“We’re pleased to be bringing back Playback\,” says RAAC Theatre Artistic Director Patty Hardee. “Before covid\, the group led a well-attended workshop that drew people interested in learning Playback’s unique improv techniques. That evening they demonstrated in performance the range and fun of Playback improv.” Boomie Pedersen\, a talented actress and long-time member of the Playback troupe based in Charlottesville will help lead the workshop. Last September in the Little Washington Theatre Boomie performed the one-woman show “The Man Who Eats Books\,” a play by the late Julie Portman. \n“Playback brings to the stage stories and story fragments suggested by the audience\,” says Boomie. “The workshop introduces the participants to the forms used to play back stories\, starting with the simplest one-word story and moving to fully casted longer stories. Everyone has stories and feelings and those are really the only two requirements for Playback\, along with a spirit of adventure and a ‘yes\, and’ attitude.” \nTickets are $17.85 and can be purchased at Eventbrite. \n 
URL:https://www.raac.org/upcoming-events/improv-performance/
LOCATION:Little Washington Theatre\, 291 Gay Street\, Washington\, VA\, 22740\, United States
CATEGORIES:RAAC Events,Theatre
ORGANIZER;CN="Rappahannock Association for Arts and Community":MAILTO:theater@raac.org
END:VEVENT
END:VCALENDAR