BEGIN:VCALENDAR
VERSION:2.0
PRODID:-//RAAC - ECPv6.15.12.2//NONSGML v1.0//EN
CALSCALE:GREGORIAN
METHOD:PUBLISH
X-WR-CALNAME:RAAC
X-ORIGINAL-URL:https://www.raac.org
X-WR-CALDESC:Events for RAAC
REFRESH-INTERVAL;VALUE=DURATION:PT1H
X-Robots-Tag:noindex
X-PUBLISHED-TTL:PT1H
BEGIN:VTIMEZONE
TZID:America/New_York
BEGIN:DAYLIGHT
TZOFFSETFROM:-0500
TZOFFSETTO:-0400
TZNAME:EDT
DTSTART:20230312T070000
END:DAYLIGHT
BEGIN:STANDARD
TZOFFSETFROM:-0400
TZOFFSETTO:-0500
TZNAME:EST
DTSTART:20231105T060000
END:STANDARD
BEGIN:DAYLIGHT
TZOFFSETFROM:-0500
TZOFFSETTO:-0400
TZNAME:EDT
DTSTART:20240310T070000
END:DAYLIGHT
BEGIN:STANDARD
TZOFFSETFROM:-0400
TZOFFSETTO:-0500
TZNAME:EST
DTSTART:20241103T060000
END:STANDARD
BEGIN:DAYLIGHT
TZOFFSETFROM:-0500
TZOFFSETTO:-0400
TZNAME:EDT
DTSTART:20250309T070000
END:DAYLIGHT
BEGIN:STANDARD
TZOFFSETFROM:-0400
TZOFFSETTO:-0500
TZNAME:EST
DTSTART:20251102T060000
END:STANDARD
END:VTIMEZONE
BEGIN:VEVENT
DTSTART;TZID=America/New_York:20240906T190000
DTEND;TZID=America/New_York:20240906T210000
DTSTAMP:20260423T073133
CREATED:20240813T101346Z
LAST-MODIFIED:20240813T102250Z
UID:11684-1725649200-1725656400@www.raac.org
SUMMARY:Julius Caesar
DESCRIPTION:The play will be presented by CAST\, the Cambridge American Stage Tour\, a troupe composed of Cambridge students who have been crossing the Atlantic annually for over two decades to bring the works of British playwrights to our shores. This diverse group of undergraduate and postgraduate students travels up and down the East Coast\, visiting colleges from the University of Florida to Harvard\, with stops at high schools and venues like the Little Washington Theatre on the way. \nTickets are $20 plus fees and can be purchased at Eventbrite.
URL:https://www.raac.org/upcoming-events/julius-caesar/
LOCATION:Little Washington Theatre\, 291 Gay Street\, Washington\, VA\, 22740\, United States
CATEGORIES:RAAC Events,Theatre
ORGANIZER;CN="Rappahannock Association for Arts and Community":MAILTO:theater@raac.org
END:VEVENT
END:VCALENDAR