BEGIN:VCALENDAR
VERSION:2.0
PRODID:-//RAAC - ECPv6.15.12.2//NONSGML v1.0//EN
CALSCALE:GREGORIAN
METHOD:PUBLISH
X-WR-CALNAME:RAAC
X-ORIGINAL-URL:https://www.raac.org
X-WR-CALDESC:Events for RAAC
REFRESH-INTERVAL;VALUE=DURATION:PT1H
X-Robots-Tag:noindex
X-PUBLISHED-TTL:PT1H
BEGIN:VTIMEZONE
TZID:America/New_York
BEGIN:DAYLIGHT
TZOFFSETFROM:-0500
TZOFFSETTO:-0400
TZNAME:EDT
DTSTART:20240310T070000
END:DAYLIGHT
BEGIN:STANDARD
TZOFFSETFROM:-0400
TZOFFSETTO:-0500
TZNAME:EST
DTSTART:20241103T060000
END:STANDARD
BEGIN:DAYLIGHT
TZOFFSETFROM:-0500
TZOFFSETTO:-0400
TZNAME:EDT
DTSTART:20250309T070000
END:DAYLIGHT
BEGIN:STANDARD
TZOFFSETFROM:-0400
TZOFFSETTO:-0500
TZNAME:EST
DTSTART:20251102T060000
END:STANDARD
BEGIN:DAYLIGHT
TZOFFSETFROM:-0500
TZOFFSETTO:-0400
TZNAME:EDT
DTSTART:20260308T070000
END:DAYLIGHT
BEGIN:STANDARD
TZOFFSETFROM:-0400
TZOFFSETTO:-0500
TZNAME:EST
DTSTART:20261101T060000
END:STANDARD
END:VTIMEZONE
BEGIN:VEVENT
DTSTART;TZID=America/New_York:20251003T190000
DTEND;TZID=America/New_York:20251003T203000
DTSTAMP:20260423T055528
CREATED:20250930T195726Z
LAST-MODIFIED:20250930T195738Z
UID:12457-1759518000-1759523400@www.raac.org
SUMMARY:RAAC Talk - Lee Miller's Photography
DESCRIPTION:Rappahannock author and art scholar Jane Livingston will explore Lee Miller’s photography during this free RAAC program. \nRappahannock movie-goers last year enjoyed Lee\, the acclaimed film featuring American photographer Lee Miller’s exploits as a war correspondent in Europe for Vogue magazine. Miller’s artistic story will be further explored by Livingston in a talk and slide presentation. The former curator and associate director of the Corcoran Gallery of Art in Washington\, D.C.\, Jane Livingston authored Lee Miller: Photographer\, the definitive book on Miller’s shaping contributions to modern photography. The book accompanied a 1989-1990 exhibit that toured seven cities in the U.S. \nMiller’s life in Paris in the 1920s revolved around her artistic and romantic relationship with Man Ray\, the American artist who became a leading figure in the Surrealist and Dadaist movements. Miller’s works during those years\, and later\, became some of the most memorable images of the era\, when photography was evolving as both an art form and a communication medium for news. \nLivingston will share insights into this pivotal moment for modern art\, along with observations about the life and psychology of Lee Miller herself. \nHearing assistance will be available.
URL:https://www.raac.org/upcoming-events/raac-talk-lee-millers-photography/
LOCATION:Little Washington Theatre\, 291 Gay Street\, Washington\, VA\, 22740\, United States
CATEGORIES:RAAC Events,RAAC Talks
ORGANIZER;CN="Rappahannock Association for Arts and Community":MAILTO:theater@raac.org
END:VEVENT
END:VCALENDAR