BEGIN:VCALENDAR
VERSION:2.0
PRODID:-//RAAC - ECPv6.15.12.2//NONSGML v1.0//EN
CALSCALE:GREGORIAN
METHOD:PUBLISH
X-WR-CALNAME:RAAC
X-ORIGINAL-URL:https://www.raac.org
X-WR-CALDESC:Events for RAAC
REFRESH-INTERVAL;VALUE=DURATION:PT1H
X-Robots-Tag:noindex
X-PUBLISHED-TTL:PT1H
BEGIN:VTIMEZONE
TZID:America/New_York
BEGIN:DAYLIGHT
TZOFFSETFROM:-0500
TZOFFSETTO:-0400
TZNAME:EDT
DTSTART:20220313T070000
END:DAYLIGHT
BEGIN:STANDARD
TZOFFSETFROM:-0400
TZOFFSETTO:-0500
TZNAME:EST
DTSTART:20221106T060000
END:STANDARD
BEGIN:DAYLIGHT
TZOFFSETFROM:-0500
TZOFFSETTO:-0400
TZNAME:EDT
DTSTART:20230312T070000
END:DAYLIGHT
BEGIN:STANDARD
TZOFFSETFROM:-0400
TZOFFSETTO:-0500
TZNAME:EST
DTSTART:20231105T060000
END:STANDARD
BEGIN:DAYLIGHT
TZOFFSETFROM:-0500
TZOFFSETTO:-0400
TZNAME:EDT
DTSTART:20240310T070000
END:DAYLIGHT
BEGIN:STANDARD
TZOFFSETFROM:-0400
TZOFFSETTO:-0500
TZNAME:EST
DTSTART:20241103T060000
END:STANDARD
END:VTIMEZONE
BEGIN:VEVENT
DTSTART;TZID=America/New_York:20231007T170000
DTEND;TZID=America/New_York:20231007T190000
DTSTAMP:20260423T073223
CREATED:20230910T222058Z
LAST-MODIFIED:20230910T222103Z
UID:11147-1696698000-1696705200@www.raac.org
SUMMARY:RAAC Talks - Creative to Creative
DESCRIPTION:Creative to Creative: an exploratory dialogue about the process of creating what isn’t already here. Expect the unexpected arising from deep humor and unflinching originality\, when accomplished stage and screen actress Betsy Brantley collaborates and collides with the irreplaceable Rappahannock painter Ruthie Windsor-Mann. Environmentalist\, painter\, writer and former Rappahannock resident Ruth Anna Stolk will moderate the laughs\, memories and insights. This program is free.
URL:https://www.raac.org/upcoming-events/raac-talks-creative-to-creative/
LOCATION:Little Washington Theatre\, 291 Gay Street\, Washington\, VA\, 22740\, United States
CATEGORIES:RAAC Events,RAAC Talks
ORGANIZER;CN="Rappahannock Association for Arts and Community":MAILTO:theater@raac.org
END:VEVENT
END:VCALENDAR