BEGIN:VCALENDAR
VERSION:2.0
PRODID:-//RAAC - ECPv6.15.12.2//NONSGML v1.0//EN
CALSCALE:GREGORIAN
METHOD:PUBLISH
X-WR-CALNAME:RAAC
X-ORIGINAL-URL:https://www.raac.org
X-WR-CALDESC:Events for RAAC
REFRESH-INTERVAL;VALUE=DURATION:PT1H
X-Robots-Tag:noindex
X-PUBLISHED-TTL:PT1H
BEGIN:VTIMEZONE
TZID:America/New_York
BEGIN:DAYLIGHT
TZOFFSETFROM:-0500
TZOFFSETTO:-0400
TZNAME:EDT
DTSTART:20230312T070000
END:DAYLIGHT
BEGIN:STANDARD
TZOFFSETFROM:-0400
TZOFFSETTO:-0500
TZNAME:EST
DTSTART:20231105T060000
END:STANDARD
BEGIN:DAYLIGHT
TZOFFSETFROM:-0500
TZOFFSETTO:-0400
TZNAME:EDT
DTSTART:20240310T070000
END:DAYLIGHT
BEGIN:STANDARD
TZOFFSETFROM:-0400
TZOFFSETTO:-0500
TZNAME:EST
DTSTART:20241103T060000
END:STANDARD
BEGIN:DAYLIGHT
TZOFFSETFROM:-0500
TZOFFSETTO:-0400
TZNAME:EDT
DTSTART:20250309T070000
END:DAYLIGHT
BEGIN:STANDARD
TZOFFSETFROM:-0400
TZOFFSETTO:-0500
TZNAME:EST
DTSTART:20251102T060000
END:STANDARD
END:VTIMEZONE
BEGIN:VEVENT
DTSTART;TZID=America/New_York:20241206T193000
DTEND;TZID=America/New_York:20241206T210000
DTSTAMP:20260423T073441
CREATED:20241103T130233Z
LAST-MODIFIED:20241103T130546Z
UID:11744-1733513400-1733518800@www.raac.org
SUMMARY:The 12 Days of Christmas
DESCRIPTION:Don’t miss this year’s holiday offering by the RAAC Community Theatre—The 12 Days of Christmas by DC playwright Renee Calarco. In this wacky and lighthearted imagining of the backstory of The Song\, Shirley the Christmas Partridge is tasked with carrying on the family tradition of gathering everyone for the singing of The Song. With strict instructions to guard the Five Golden Rings\, Shirley sets out on her quest. As with all odysseys\, there are obstacles to overcome and surprises along the way. But with the help of others\, Shirley gains confidence and discovers a brand new way to present The Song. \nPurchase tickets at Eventbrite.
URL:https://www.raac.org/upcoming-events/the-12-days-of-christmas/
LOCATION:Little Washington Theatre\, 291 Gay Street\, Washington\, VA\, 22740\, United States
CATEGORIES:RAAC Events,Theatre
ORGANIZER;CN="Rappahannock Association for Arts and Community":MAILTO:theater@raac.org
END:VEVENT
END:VCALENDAR